BEGIN:VCALENDAR
VERSION:2.0
PRODID:-//ChamberMaster//Event Calendar 2.0//EN
METHOD:PUBLISH
X-PUBLISHED-TTL:P3D
REFRESH-INTERVAL:P3D
CALSCALE:GREGORIAN
BEGIN:VEVENT
DTSTART:20180609T140000Z
DTEND:20180609T170000Z
X-MICROSOFT-CDO-ALLDAYEVENT:FALSE
SUMMARY:Bikes & Burgers @ Pace Bend State Park
DESCRIPTION:Come hang out for a day of fun on the lake! Choose from a wide variety of mountain bikes from our Demo Fleet\, and hang around for a cookout with Team Trail Party. We will be bringing high-end mountain bikes from Specialized\, Trek\, Yeti\, and Santa Cruz.
X-ALT-DESC;FMTTYPE=text/html:Come hang out for a day of fun on the lake! Choose from a wide variety of mountain bikes from our Demo Fleet\, and hang around for a cookout with Team Trail Party. We will be bringing high-end mountain bikes from Specialized\, Trek\, Yeti\, and Santa Cruz.
LOCATION:Pace Bend State Park - Meet at the main trailhead on Grisham Trail and look for the Cycle Texas Trailer.
UID:e.2123.9671
SEQUENCE:3
DTSTAMP:20260421T205821Z
URL:https://laketravischamberfest.com/events/details/bikes-burgers-pace-bend-state-park-9671
END:VEVENT

END:VCALENDAR
