BEGIN:VCALENDAR
VERSION:2.0
PRODID:-//ChamberMaster//Event Calendar 2.0//EN
METHOD:PUBLISH
X-PUBLISHED-TTL:P3D
REFRESH-INTERVAL:P3D
CALSCALE:GREGORIAN
BEGIN:VEVENT
DTSTART:20190504T000000Z
DTEND:20190504T023000Z
X-MICROSOFT-CDO-ALLDAYEVENT:FALSE
SUMMARY:Beto and the Fairlanes return to Spicewood May 3
DESCRIPTION:Celebrating the tenth "Toast to Tony" concert anniversary\, Beto and the Fairlanes return to the Spicewood stage Friday\, May 3. They have been delighting audiences for 40 years with their original blend of jazz\, swing and Latin music. Ticket price ($50) includes free coffee\, water and refreshments at intermission.
X-ALT-DESC;FMTTYPE=text/html:Celebrating the tenth &ldquo\;Toast to Tony&rdquo\; concert anniversary\, Beto and the Fairlanes return to the Spicewood stage Friday\, May 3. They have been delighting audiences for 40 years with their original blend of jazz\, swing and Latin music. Ticket price ($50) includes free coffee\, water and refreshments at intermission.
LOCATION:Spicewood Vineyards Event Center 1419 Co. Rd. 409\, Spicewood TX 78669
UID:e.2123.9880
SEQUENCE:3
DTSTAMP:20260422T122439Z
URL:https://laketravischamberfest.com/events/details/beto-and-the-fairlanes-return-to-spicewood-may-3-9880
END:VEVENT

END:VCALENDAR
