BEGIN:VCALENDAR
VERSION:2.0
PRODID:-//ChamberMaster//Event Calendar 2.0//EN
METHOD:PUBLISH
X-PUBLISHED-TTL:P3D
REFRESH-INTERVAL:P3D
CALSCALE:GREGORIAN
BEGIN:VEVENT
DTSTART:20250317T140000Z
DTEND:20250321T210000Z
X-MICROSOFT-CDO-ALLDAYEVENT:FALSE
SUMMARY:Best of The Little Mermaid
DESCRIPTION:School Break Camps When school is out our curtain is up! Spring break features the "Best of" the Little Mermaid Musical Theatre Camp Both Full day and half-day camp options are available
X-ALT-DESC;FMTTYPE=text/html:School Break Camps When school is out our curtain is up! Spring break features the &ldquo\;Best of&rdquo\; the Little Mermaid Musical Theatre Camp Both Full day and half-day camp options are available
LOCATION:TexARTS 1110 Ranch Rd\, 620 S\, Lakeway\, TX 78734
UID:e.2123.12818
SEQUENCE:3
DTSTAMP:20260421T222321Z
URL:https://laketravischamberfest.com/events/details/best-of-the-little-mermaid-12818
END:VEVENT

END:VCALENDAR
