BEGIN:VCALENDAR
VERSION:2.0
PRODID:-//ChamberMaster//Event Calendar 2.0//EN
METHOD:PUBLISH
X-PUBLISHED-TTL:P3D
REFRESH-INTERVAL:P3D
CALSCALE:GREGORIAN
BEGIN:VEVENT
DTSTART:20210215T150000Z
DTEND:20210219T230000Z
X-MICROSOFT-CDO-ALLDAYEVENT:FALSE
SUMMARY:Best of Legally Blonde: Spring Break Camp
DESCRIPTION:This Spring Break\, join Elle Woods as uses her wit\, humor\, and sass to take on stereotypes in pursuit of her dreams! Get ready for all things pink as Elle proves that you can be true to yourself AND achieve your goals. This camp features the best of the songs and scenes from the smash-hit musical\, come sing and dance all spring break with us! Professional artists instruct students in acting\, dance\, voice and crafts. Students\, ages 5 - 14 must register with the TexARTS Academy Office in advance. For more information\, or to register please visit www.tex-arts.org or call 512-852-9079 x104
X-ALT-DESC;FMTTYPE=text/html:This Spring Break\, join Elle Woods as uses her wit\, humor\, and sass to take on stereotypes in pursuit of her dreams! Get ready for all things pink as Elle proves that you can be true to yourself AND achieve your goals. This camp features the best of the songs and scenes from the smash-hit musical\, come sing and dance all spring break with us! Professional artists instruct students in acting\, dance\, voice and crafts. Students\, ages 5 - 14 must register with the TexARTS Academy Office in advance. For more information\, or to register please visit www.tex-arts.org or call 512-852-9079 x104
LOCATION:TexARTS Association 2300 Lohman's Spur STE 160 Austin\, TX 78734
UID:e.2123.10337
SEQUENCE:3
DTSTAMP:20260423T212118Z
URL:https://laketravischamberfest.com/events/details/best-of-legally-blonde-spring-break-camp-10337
END:VEVENT

END:VCALENDAR
