BEGIN:VCALENDAR
VERSION:2.0
PRODID:-//ChamberMaster//Event Calendar 2.0//EN
METHOD:PUBLISH
X-PUBLISHED-TTL:P3D
REFRESH-INTERVAL:P3D
CALSCALE:GREGORIAN
BEGIN:VEVENT
DTSTART:20210215T150000Z
DTEND:20210215T230000Z
X-MICROSOFT-CDO-ALLDAYEVENT:FALSE
SUMMARY:Best of Hamilton Musical Theater Day Camp
DESCRIPTION:History meets Art in the "Best of" Hamilton musical theatre day camp. Students will learn the unforgettable music\, and hip-hop dance combinations from the hit Broadway musical. Professional artists instruct students in acting\, dance\, voice and crafts. Students\, ages 5 - 14 must register with the TexARTS Academy Office in advance. For more information\, or to register please visit www.tex-arts.org or call 512-852-9079 x104.
X-ALT-DESC;FMTTYPE=text/html:History meets Art in the &ldquo\;Best of&rdquo\; Hamilton musical theatre day camp. Students will learn the unforgettable music\, and hip-hop dance combinations from the hit Broadway musical. Professional artists instruct students in acting\, dance\, voice and crafts. Students\, ages 5 - 14 must register with the TexARTS Academy Office in advance. For more information\, or to register please visit www.tex-arts.org or call 512-852-9079 x104.
LOCATION:TexARTS Association 2300 Lohman's Spur STE 160 Austin\, TX 78734
UID:e.2123.10335
SEQUENCE:3
DTSTAMP:20260423T212201Z
URL:https://laketravischamberfest.com/events/details/best-of-hamilton-musical-theater-day-camp-10335
END:VEVENT

END:VCALENDAR
