BEGIN:VCALENDAR
VERSION:2.0
PRODID:-//ChamberMaster//Event Calendar 2.0//EN
METHOD:PUBLISH
X-PUBLISHED-TTL:P3D
REFRESH-INTERVAL:P3D
CALSCALE:GREGORIAN
BEGIN:VEVENT
DTSTART:20171203T190000Z
DTEND:20171203T220000Z
X-MICROSOFT-CDO-ALLDAYEVENT:FALSE
SUMMARY:Belmont Village Lakeway Information Center Opening
DESCRIPTION:Please join us for pie and conversation at our newly opened Information Center. Meet the Belmont Village team\, get project updates on our senior living community currently under construction at 107 Bella Montagna Circle\, and learn more about Belmont Village programs and services coming soon to Lakeway. Enjoy live music and an assortment of delicious pies and beverages at this special neighborhood open house. For more information or to RSVP\, please call 512-402-1800.
X-ALT-DESC;FMTTYPE=text/html:Please join us for pie and conversation at our newly opened Information Center. Meet the Belmont Village team\, get project updates on our senior living community currently under construction at 107 Bella Montagna Circle\, and learn more about Belmont Village programs and services coming soon to Lakeway. Enjoy live music and an assortment of delicious pies and beverages at this special neighborhood open house. For more information or to RSVP\, please call 512-402-1800.
LOCATION:900 Ranch Road 620 South\, Suite A100
UID:e.2123.9526
SEQUENCE:3
DTSTAMP:20260421T094505Z
URL:https://laketravischamberfest.com/events/details/belmont-village-lakeway-information-center-opening-9526
END:VEVENT

END:VCALENDAR
