BEGIN:VCALENDAR
VERSION:2.0
PRODID:-//ChamberMaster//Event Calendar 2.0//EN
METHOD:PUBLISH
X-PUBLISHED-TTL:P3D
REFRESH-INTERVAL:P3D
CALSCALE:GREGORIAN
BEGIN:VEVENT
DTSTART:20200207T200000Z
DTEND:20200207T210000Z
X-MICROSOFT-CDO-ALLDAYEVENT:FALSE
SUMMARY:Belmont Village Art Reception
DESCRIPTION:FEBRUARY EXHIBIT: ARTISTS FROM BELMONT VILLAGE Residents from Belmont Village Senior Living in Lakeway will display 21 pieces that highlight a wide range of styles\, from portraits to abstract expressions. A reception will be held on Friday\, February 7th from 2pm to 3pm where viewers can purchase their favorite pieces. Proceeds will benefit the Alzheimer's Association Capital of Texas Chapter\, to help fund research and resources for Austin-area families.
X-ALT-DESC;FMTTYPE=text/html:FEBRUARY EXHIBIT: ARTISTS FROM BELMONT VILLAGE Residents from Belmont Village Senior Living in Lakeway will display 21 pieces that highlight a wide range of styles\, from portraits to abstract expressions. A reception will be held on Friday\, February 7th from 2pm to 3pm where viewers can purchase their favorite pieces. Proceeds will benefit the Alzheimer&rsquo\;s Association Capital of Texas Chapter\, to help fund research and resources for Austin-area families.
LOCATION:Lake Travis Community Library 1938 Lohmans Crossing Austin\, Texas 78734
UID:e.2123.10061
SEQUENCE:3
DTSTAMP:20260423T015227Z
URL:https://laketravischamberfest.com/events/details/belmont-village-art-reception-10061
END:VEVENT

END:VCALENDAR
