BEGIN:VCALENDAR
VERSION:2.0
PRODID:-//ChamberMaster//Event Calendar 2.0//EN
METHOD:PUBLISH
X-PUBLISHED-TTL:P3D
REFRESH-INTERVAL:P3D
CALSCALE:GREGORIAN
BEGIN:VEVENT
DTSTART:20180927T193000Z
DTEND:20180928T003000Z
X-MICROSOFT-CDO-ALLDAYEVENT:FALSE
SUMMARY:Belmont City Limits
DESCRIPTION:Join us for a day of live music and fun as we listen and dance to local artists from a range of genres. From a Caribbean duo to a jazz trio\, there's a tune for everyone to enjoy at Belmont City Limits. PERFORMERS: 2:30 - 3:30 PM Where's Renee   Caribbean/Calypso Duo 4:00 - 4:45 PM Gail March   Folk and Rock Music 5:15 - 6:00 PM A Cappella Texas Barbershop Quartet 6:30 - 7:30 PM Christian Wiggs Jazz Vocalist Cocktails\, wine and hors d'oeuvres will be served. RSVP to the concierge at 512-347-1700.
X-ALT-DESC;FMTTYPE=text/html:Join us for a day of live music and fun as we listen and dance to local artists from a range of genres. From a Caribbean duo to a jazz trio\, there&rsquo\;s a tune for everyone to enjoy at Belmont City Limits. PERFORMERS: 2:30 - 3:30 PM Where&rsquo\;s Renee &ndash\; Caribbean/Calypso Duo 4:00 - 4:45 PM Gail March &ndash\; Folk and Rock Music 5:15 - 6:00 PM A Cappella Texas Barbershop Quartet 6:30 - 7:30 PM Christian Wiggs Jazz Vocalist Cocktails\, wine and hors d&rsquo\;oeuvres will be served. RSVP to the concierge at 512-347-1700.
LOCATION:Belmont Village Senior Living - West Lake Hills
UID:e.2123.9725
SEQUENCE:3
DTSTAMP:20260422T010605Z
URL:https://laketravischamberfest.com/events/details/belmont-city-limits-9725
END:VEVENT

END:VCALENDAR
