BEGIN:VCALENDAR
VERSION:2.0
PRODID:-//ChamberMaster//Event Calendar 2.0//EN
METHOD:PUBLISH
X-PUBLISHED-TTL:P3D
REFRESH-INTERVAL:P3D
CALSCALE:GREGORIAN
BEGIN:VEVENT
DTSTART:20221121T210000Z
DTEND:20230103T020000Z
X-MICROSOFT-CDO-ALLDAYEVENT:FALSE
SUMMARY:Bee Cave on Ice!
DESCRIPTION:November 4 - January 2\, 2023\n\n \n\n$15 for 75 minutes including skates\n\n \n\nHours (subject to change):\n\nMonday - Friday - 3 pm to 8 pm\n\nSaturday - 10 am to 10 pm \n\nSunday 10 am to 8 pm \n\n \n\n*Reservations are encouraged and can be made online at: BeeCaveTexas.gov
X-ALT-DESC;FMTTYPE=text/html:<p style="margin: 0px\; font-stretch: normal\; line-height: normal\; font-family: Arial\; color: rgb(26\, 26\, 26)\; -webkit-text-stroke-width: initial\; -webkit-text-stroke-color: rgb(26\, 26\, 26)\;"><span style="font-kerning: none">November 4 - January 2\, 2023</span></p>\n\n<p style="margin: 0px\; font-stretch: normal\; line-height: normal\; font-family: Arial\; color: rgb(26\, 26\, 26)\; -webkit-text-stroke-width: initial\; -webkit-text-stroke-color: rgb(26\, 26\, 26)\; min-height: 15px\;">&nbsp\;</p>\n\n<p style="margin: 0px\; font-stretch: normal\; line-height: normal\; font-family: Arial\; color: rgb(26\, 26\, 26)\; -webkit-text-stroke-width: initial\; -webkit-text-stroke-color: rgb(26\, 26\, 26)\;"><span style="font-kerning: none">$15 for 75 minutes including&nbsp\;skates</span><br />\n&nbsp\;</p>\n\n<p style="margin: 0px\; font-stretch: normal\; line-height: normal\; font-family: Arial\; color: rgb(26\, 26\, 26)\; -webkit-text-stroke-width: initial\; -webkit-text-stroke-color: rgb(26\, 26\, 26)\;"><strong><span style="font-kerning: none">Hours (subject to change):</span></strong></p>\n\n<p style="margin: 0px\; font-stretch: normal\; line-height: normal\; font-family: Arial\; color: rgb(26\, 26\, 26)\; -webkit-text-stroke-width: initial\; -webkit-text-stroke-color: rgb(26\, 26\, 26)\;"><span style="font-kerning: none">Monday - Friday - 3 pm to 8 pm</span></p>\n\n<p style="margin: 0px\; font-stretch: normal\; line-height: normal\; font-family: Arial\; color: rgb(26\, 26\, 26)\; -webkit-text-stroke-width: initial\; -webkit-text-stroke-color: rgb(26\, 26\, 26)\;"><span style="font-kerning: none">Saturday - 10 am to 10 pm&nbsp\;</span></p>\n\n<p style="margin: 0px\; font-stretch: normal\; line-height: normal\; font-family: Arial\; color: rgb(26\, 26\, 26)\; -webkit-text-stroke-width: initial\; -webkit-text-stroke-color: rgb(26\, 26\, 26)\;"><span style="font-kerning: none">Sunday 10 am to 8 pm&nbsp\;</span></p>\n\n<p style="margin: 0px\; font-stretch: normal\; line-height: normal\; font-family: Arial\; color: rgb(26\, 26\, 26)\; -webkit-text-stroke-width: initial\; -webkit-text-stroke-color: rgb(26\, 26\, 26)\; min-height: 15px\;">&nbsp\;</p>\n\n<p style="margin: 0px\; font-stretch: normal\; line-height: normal\; font-family: Arial\; color: rgb(26\, 26\, 26)\; -webkit-text-stroke-width: initial\; -webkit-text-stroke-color: rgb(26\, 26\, 26)\;"><span style="font-kerning: none">*Reservations&nbsp\;are encouraged and can be made online at: BeeCaveTexas.gov</span></p>\n
LOCATION:Central Plaza\, Hill Country Galleria - 12700 Hill Country Blvd\, Bee Cave\, TX 78738
UID:e.2123.11539
SEQUENCE:3
DTSTAMP:20260423T112440Z
URL:https://laketravischamberfest.com/events/details/bee-cave-on-ice-11539
END:VEVENT

END:VCALENDAR
