BEGIN:VCALENDAR
VERSION:2.0
PRODID:-//ChamberMaster//Event Calendar 2.0//EN
METHOD:PUBLISH
X-PUBLISHED-TTL:P3D
REFRESH-INTERVAL:P3D
CALSCALE:GREGORIAN
BEGIN:VEVENT
DTSTART;VALUE=DATE:20201016
DTEND;VALUE=DATE:20201129
TRANSP:TRANSPARENT
X-MICROSOFT-CDO-ALLDAYEVENT:TRUE
SUMMARY:Bee Cave Arts Foundation Dark Sky Photography Exhibit
DESCRIPTION:In celebration of the City of Bee Cave Dark Sky Community initiative\, the Bee Cave Arts Foundation is hosting a Dark Sky Photography exhibit. The exhibit will be on display at "The Hive"\, located at the Hill Country Galleria\, from October 16-November 28. Visit the BCAF website to learn more.
X-ALT-DESC;FMTTYPE=text/html:In celebration of the City of Bee Cave Dark Sky Community initiative\, the Bee Cave Arts Foundation is hosting a Dark Sky Photography exhibit. The exhibit will be on display at &quot\;The Hive&quot\;\, located at the Hill Country Galleria\, from October 16-November 28. Visit the BCAF website to learn more.
LOCATION:The Hive - Bee Cave Arts Foundation 12700 Hill Country Blvd\, Bee Cave\, TX 78738
UID:e.2123.10162
SEQUENCE:3
DTSTAMP:20260423T134442Z
URL:https://laketravischamberfest.com/events/details/bee-cave-arts-foundation-dark-sky-photography-exhibit-10162
END:VEVENT

END:VCALENDAR
