BEGIN:VCALENDAR
VERSION:2.0
PRODID:-//ChamberMaster//Event Calendar 2.0//EN
METHOD:PUBLISH
X-PUBLISHED-TTL:P3D
REFRESH-INTERVAL:P3D
CALSCALE:GREGORIAN
BEGIN:VEVENT
DTSTART:20220813T170000Z
DTEND:20220813T170000Z
X-MICROSOFT-CDO-ALLDAYEVENT:FALSE
SUMMARY:Beauty & The Beast Jr. Enrollment & Auditions
DESCRIPTION:The classic story tells of Belle\, a young woman in a provincial town\, and the Beast\, who is really a young prince trapped under the spell of an enchantress. If the Beast can learn to love and be loved\, the curse will end and he will be transformed to his former self. But time is running out. If the Beast does not learn his lesson soon\, he and his household of lovable characters will be doomed for all eternity. Performances are planned to be live November 5\,6\,12\, & 13 in the TexARTS Kam & James Morris Theater. Placement auditions will be on August 13th. Students must be registered in order to audition. Ages 7-17.
X-ALT-DESC;FMTTYPE=text/html:The classic story tells of Belle\, a young woman in a provincial town\, and the Beast\, who is really a young prince trapped under the spell of an enchantress. If the Beast can learn to love and be loved\, the curse will end and he will be transformed to his former self. But time is running out. If the Beast does not learn his lesson soon\, he and his household of lovable characters will be doomed for all eternity. Performances are planned to be live November 5\,6\,12\, &amp\; 13 in the TexARTS Kam &amp\; James Morris Theater. Placement auditions will be on August 13th. Students must be registered in order to audition. Ages 7-17.
LOCATION:TexARTS Association 2300 Lohman's Spur Rd. STE 160 Austin\, TX 78734
UID:e.2123.11138
SEQUENCE:3
DTSTAMP:20260423T191110Z
URL:https://laketravischamberfest.com/events/details/beauty-the-beast-jr-enrollment-auditions-11138
END:VEVENT

END:VCALENDAR
