BEGIN:VCALENDAR
VERSION:2.0
PRODID:-//ChamberMaster//Event Calendar 2.0//EN
METHOD:PUBLISH
X-PUBLISHED-TTL:P3D
REFRESH-INTERVAL:P3D
CALSCALE:GREGORIAN
BEGIN:VEVENT
DTSTART:20190404T220000Z
DTEND:20190405T010000Z
X-MICROSOFT-CDO-ALLDAYEVENT:FALSE
SUMMARY:BCRC's Power of the Purse
DESCRIPTION:Our first Power of the Purse fundraiser will take place on April 4\, 2019 at the Palm Door on Sabine from 5-8pm. This signature fundraising event will attract over 150 distinguished women and men and will feature a silent and live auction. Browse through the "mercado" filled with a wide array of new and vintage designer handbags. These gorgeous purses\, donated by local Power Women and upscale retailers\, will be auctioned the night of the event. Grab a cocktail and some bites\, choose your favorite handbags from the collection\, bid against your friends\, and let's have fun raising money. You will be supporting over 1\,900 women and men who walk through our doors annually after hearing the life-changing words\, "you have breast cancer". You can help us continue to provide crucial services   free of charge   to all those we serve at BCRC. We are currently collecting new and gently used designer\, luxury or high-end purses at multiple locations throughout the ATX area. Stop by one of the following locations to donate your purse today.
X-ALT-DESC;FMTTYPE=text/html:Our first Power of the Purse fundraiser will take place on April 4\, 2019 at the Palm Door on Sabine from 5-8pm. This signature fundraising event will attract over 150 distinguished women and men and will feature a silent and live auction. Browse through the &ldquo\;mercado&rdquo\; filled with a wide array of new and vintage designer handbags. These gorgeous purses\, donated by local Power Women and upscale retailers\, will be auctioned the night of the event. Grab a cocktail and some bites\, choose your favorite handbags from the collection\, bid against your friends\, and let&rsquo\;s have fun raising money. You will be supporting over 1\,900 women and men who walk through our doors annually after hearing the life-changing words\, &ldquo\;you have breast cancer&rdquo\;. You can help us continue to provide crucial services &ndash\; free of charge &ndash\; to all those we serve at BCRC. We are currently collecting new and gently used designer\, luxury or high-end purses at multiple locations throughout the ATX area. Stop by one of the following locations to donate your purse today.
LOCATION:The Palm Door on Sabine
UID:e.2123.9755
SEQUENCE:3
DTSTAMP:20260422T110354Z
URL:https://laketravischamberfest.com/events/details/bcrc-s-power-of-the-purse-9755
END:VEVENT

END:VCALENDAR
