BEGIN:VCALENDAR
VERSION:2.0
PRODID:-//ChamberMaster//Event Calendar 2.0//EN
METHOD:PUBLISH
X-PUBLISHED-TTL:P3D
REFRESH-INTERVAL:P3D
CALSCALE:GREGORIAN
BEGIN:VEVENT
DTSTART:20230506T190000Z
DTEND:20230506T220000Z
X-MICROSOFT-CDO-ALLDAYEVENT:FALSE
SUMMARY:Baylor Scott & White Health Women's Event
DESCRIPTION:Join us for a free women's health event at Baylor Scott & White Health Medical Center- Austin. We will have free talks by medical professionals on mental health\, menopause\, incontinence\, primary care\, thyroid imbalance and more. We are also offering free health screenings like blood pressure\, grip strength\, nutrition\, acupuncture seeding\, and more. Food and drinks also provided. Wear your best Kentucky derby hat and win a prize!
X-ALT-DESC;FMTTYPE=text/html:Join us for a free women&#39\;s health event at Baylor Scott &amp\; White Health Medical Center- Austin. We will have free talks by medical professionals on mental health\, menopause\, incontinence\, primary care\, thyroid imbalance and more. We are also offering free health screenings like blood pressure\, grip strength\, nutrition\, acupuncture seeding\, and more. Food and drinks also provided. Wear your best Kentucky derby hat and win a prize!
LOCATION:5245 W US Hwy 290 Service Rd\, Austin\, TX 78735
UID:e.2123.11742
SEQUENCE:3
DTSTAMP:20260423T070158Z
URL:https://laketravischamberfest.com/events/details/baylor-scott-white-health-women-s-event-11742
END:VEVENT

END:VCALENDAR
