BEGIN:VCALENDAR
VERSION:2.0
PRODID:-//ChamberMaster//Event Calendar 2.0//EN
METHOD:PUBLISH
X-PUBLISHED-TTL:P3D
REFRESH-INTERVAL:P3D
CALSCALE:GREGORIAN
BEGIN:VEVENT
DTSTART:20220923T220000Z
DTEND:20220924T020000Z
X-MICROSOFT-CDO-ALLDAYEVENT:FALSE
SUMMARY:Battle of the Lakes
DESCRIPTION:Join us for a Lake Travis Chamber of Commerce and Westlake Chamber of Commerce tailgate party before the Battle of the Lakes - LAKE TRAVIS vs Westlake game on Friday\, September 23.Bring your cards\, a snack to share\, and your LT spirit and let's make some new friends! Go Cavs!
X-ALT-DESC;FMTTYPE=text/html:<span style="font-size: 16px\; caret-color: rgb(34\, 34\, 34)\; color: rgb(34\, 34\, 34)\; font-family: Arial\, Verdana\, Helvetica\, sans-serif\;">Join us for a Lake Travis Chamber of Commerce and Westlake Chamber of Commerce tailgate party before the Battle of the Lakes - LAKE TRAVIS vs Westlake game on Friday\, September 23.Bring your cards\, a snack to share\, and your LT spirit and let&#39\;s make some new friends! Go Cavs!&nbsp\;</span>
LOCATION:1406 Camp Craft Road - behind People's Pharmacy
UID:e.2123.11147
SEQUENCE:3
DTSTAMP:20260423T183932Z
URL:https://laketravischamberfest.com/events/details/battle-of-the-lakes-11147
END:VEVENT

END:VCALENDAR
