BEGIN:VCALENDAR
VERSION:2.0
PRODID:-//ChamberMaster//Event Calendar 2.0//EN
METHOD:PUBLISH
X-PUBLISHED-TTL:P3D
REFRESH-INTERVAL:P3D
CALSCALE:GREGORIAN
BEGIN:VEVENT
DTSTART:20230930T003000Z
DTEND:20231016T023000Z
X-MICROSOFT-CDO-ALLDAYEVENT:FALSE
SUMMARY:Baskerville: A Sherlock Holmes Mystery
DESCRIPTION:A whodunnit for all ages\; Sir Arthur Conan Doyle's most celebrated adventure gets a brilliantly farcical overhaul! World-renowned detective Sherlock Holmes and his colleague Dr Watson are asked to unravel the mystery surrounding the untimely death of Sir Charles Baskerville. With rumors of a cursed giant hound loose\, Holmes and Watson must act fast in order to save the Baskerville family's newest heir. This ingenious adaptation combines an exhilarating collision of farce\, theatrical invention and wonderfully comic performances to offer a brand-new twist on the greatest detective story of all time.
X-ALT-DESC;FMTTYPE=text/html:A whodunnit for all ages\; Sir Arthur Conan Doyle&rsquo\;s most celebrated adventure gets a brilliantly farcical overhaul! World-renowned detective Sherlock Holmes and his colleague Dr Watson are asked to unravel the mystery surrounding the untimely death of Sir Charles Baskerville. With rumors of a cursed giant hound loose\, Holmes and Watson must act fast in order to save the Baskerville family&rsquo\;s newest heir. This ingenious adaptation combines an exhilarating collision of farce\, theatrical invention and wonderfully comic performances to offer a brand-new twist on the greatest detective story of all time.
LOCATION:TexARTS Association 2300 Lohmans Spur Rd STE 160 Lakeway\, TX 78734
UID:e.2123.11778
SEQUENCE:3
DTSTAMP:20260422T222623Z
URL:https://laketravischamberfest.com/events/details/baskerville-a-sherlock-holmes-mystery-11778
END:VEVENT

END:VCALENDAR
