BEGIN:VCALENDAR
VERSION:2.0
PRODID:-//ChamberMaster//Event Calendar 2.0//EN
METHOD:PUBLISH
X-PUBLISHED-TTL:P3D
REFRESH-INTERVAL:P3D
CALSCALE:GREGORIAN
BEGIN:VEVENT
DTSTART:20181114T190000Z
DTEND:20181114T200000Z
X-MICROSOFT-CDO-ALLDAYEVENT:FALSE
SUMMARY:Bamboozled by Fraud? Resources for Boomers and Beyond
DESCRIPTION:Bamboozled by Fraud? Resources for Boomers and Beyond - Wednesday\, November 14th at 1pm - Learn strategies\, tips\, and resources for protecting yourself from fraud\, scams\, and identity theft. Light refreshments will be provided\, so please RSVP to lisa.crawford@firstunitedbank.com or (830) 798-3128.
X-ALT-DESC;FMTTYPE=text/html:Bamboozled by Fraud? Resources for Boomers and Beyond - Wednesday\, November 14th at 1pm - Learn strategies\, tips\, and resources for protecting yourself from fraud\, scams\, and identity theft. Light refreshments will be provided\, so please RSVP to lisa.crawford@firstunitedbank.com or (830) 798-3128.
LOCATION:Lake Travis Community Library 1938 Lohmans Crossing Austin\, Texas 78734
UID:e.2123.9740
SEQUENCE:3
DTSTAMP:20260422T024530Z
URL:https://laketravischamberfest.com/events/details/bamboozled-by-fraud-resources-for-boomers-and-beyond-9740
END:VEVENT

END:VCALENDAR
