BEGIN:VCALENDAR
VERSION:2.0
PRODID:-//ChamberMaster//Event Calendar 2.0//EN
METHOD:PUBLISH
X-PUBLISHED-TTL:P3D
REFRESH-INTERVAL:P3D
CALSCALE:GREGORIAN
BEGIN:VEVENT
DTSTART:20181024T190000Z
DTEND:20181024T200000Z
X-MICROSOFT-CDO-ALLDAYEVENT:FALSE
SUMMARY:Bamboozled by Fraud: Resources for Boomers and Beyond
DESCRIPTION:Speaker: Lisa Crawford\, Assistant Vice President and Financial Well-Being Specialist\, First United Bank Join us for an informative session on protecting yourself and your family from financial fraud. We will cover the common forms of financial fraud that impacts seniors and ways to avoid becoming a target. Light refreshments will be served. RSVP to the concierge at 512-402-1800.
X-ALT-DESC;FMTTYPE=text/html:Speaker: Lisa Crawford\, Assistant Vice President and Financial Well-Being Specialist\, First United Bank Join us for an informative session on protecting yourself and your family from financial fraud. We will cover the common forms of financial fraud that impacts seniors and ways to avoid becoming a target. Light refreshments will be served. RSVP to the concierge at 512-402-1800.
LOCATION:Belmont Village Senior Living - Lakeway
UID:e.2123.9747
SEQUENCE:3
DTSTAMP:20260422T010916Z
URL:https://laketravischamberfest.com/events/details/bamboozled-by-fraud-resources-for-boomers-and-beyond-10-24-2018-9747
END:VEVENT

END:VCALENDAR
