BEGIN:VCALENDAR
VERSION:2.0
PRODID:-//ChamberMaster//Event Calendar 2.0//EN
METHOD:PUBLISH
X-PUBLISHED-TTL:P3D
REFRESH-INTERVAL:P3D
CALSCALE:GREGORIAN
BEGIN:VEVENT
DTSTART:20210726T190000Z
DTEND:20210730T223000Z
X-MICROSOFT-CDO-ALLDAYEVENT:FALSE
SUMMARY:Ballet Intensive
DESCRIPTION:The TexARTS Ballet Intensive offers technical training and fosters artistic development within the discipline of ballet.  With limited enrollment\, students will receive a high caliber of training\, personal attention and individual corrections geared to helping them strengthen their technique. Ages 7-17
X-ALT-DESC;FMTTYPE=text/html:The TexARTS Ballet Intensive offers technical training and fosters artistic development within the discipline of ballet.&nbsp\; With limited enrollment\, students will receive a high caliber of training\, personal attention and individual corrections geared to helping them strengthen their technique.&nbsp\;Ages 7-17
LOCATION:TexARTS Assocation 2300 Lohman's Spur STE 160 Lakeway\, TX 78734
UID:e.2123.10903
SEQUENCE:3
DTSTAMP:20260424T025103Z
URL:https://laketravischamberfest.com/events/details/ballet-intensive-07-26-2021-10903
END:VEVENT

END:VCALENDAR
