BEGIN:VCALENDAR
VERSION:2.0
PRODID:-//ChamberMaster//Event Calendar 2.0//EN
METHOD:PUBLISH
X-PUBLISHED-TTL:P3D
REFRESH-INTERVAL:P3D
CALSCALE:GREGORIAN
BEGIN:VEVENT
DTSTART:20180821T230000Z
DTEND:20180822T003000Z
X-MICROSOFT-CDO-ALLDAYEVENT:FALSE
SUMMARY:AWANA
DESCRIPTION:AWANAWANA logoA (Approved Workmen Are Not Ashamed   2 Timothy 2:15) is an international\, non-denominational\, Bible-centered children's organization committed to teaching children the Word of God. At AWANA children earn awards by reciting memorized scripture\, play games and have music and Bible lesson time. AWANA is open to children three years old through 5th grade and meets each Tuesday evening\, 6:00   7:30\, September through April\, following the Lake Travis ISD schedule. Registration for AWANA will be held on Tuesday\, August 21\, from 6:00 - 7:30 pm in the Fellowship Hall of The Lakeway Church or you may register your child(ren) at lakewaychurch.org/awana-2/.
X-ALT-DESC;FMTTYPE=text/html:AWANAWANA logoA (Approved Workmen Are Not Ashamed &ndash\; 2 Timothy 2:15) is an international\, non-denominational\, Bible-centered children&rsquo\;s organization committed to teaching children the Word of God. At AWANA children earn awards by reciting memorized scripture\, play games and have music and Bible lesson time. AWANA is open to children three years old through 5th grade and meets each Tuesday evening\, 6:00 &ndash\; 7:30\, September through April\, following the Lake Travis ISD schedule. Registration for AWANA will be held on Tuesday\, August 21\, from 6:00 - 7:30 pm in the Fellowship Hall of The Lakeway Church or you may register your child(ren) at lakewaychurch.org/awana-2/.
LOCATION:The Lakeway Church 2203 Lakeway Blvd. Lakeway\, TX 78734
UID:e.2123.9689
SEQUENCE:3
DTSTAMP:20260421T221720Z
URL:https://laketravischamberfest.com/events/details/awana-9689
END:VEVENT

END:VCALENDAR
