BEGIN:VCALENDAR
VERSION:2.0
PRODID:-//ChamberMaster//Event Calendar 2.0//EN
METHOD:PUBLISH
X-PUBLISHED-TTL:P3D
REFRESH-INTERVAL:P3D
CALSCALE:GREGORIAN
BEGIN:VEVENT
DTSTART:20180519T183000Z
DTEND:20180519T193000Z
X-MICROSOFT-CDO-ALLDAYEVENT:FALSE
SUMMARY:Author Robert Levey
DESCRIPTION:Author Robert Levey - Saturday\, May 19th at 1:30pm - Join us to hear local author Robert Levey discuss his debut crime fiction Risk: A Tale of Wall Street. Risk is a dramatic exploration of the greed and dysfunction that plagued Wall Street in the wake of the 2008 financial crisis.
X-ALT-DESC;FMTTYPE=text/html:Author Robert Levey - Saturday\, May 19th at 1:30pm - Join us to hear local author Robert Levey discuss his debut crime fiction Risk: A Tale of Wall Street. Risk is a dramatic exploration of the greed and dysfunction that plagued Wall Street in the wake of the 2008 financial crisis.
LOCATION:Lake Travis Community Library 1938 Lohmans Crossing Austin\, Texas 78734
UID:e.2123.9623
SEQUENCE:3
DTSTAMP:20260421T175341Z
URL:https://laketravischamberfest.com/events/details/author-robert-levey-9623
END:VEVENT

END:VCALENDAR
