BEGIN:VCALENDAR
VERSION:2.0
PRODID:-//ChamberMaster//Event Calendar 2.0//EN
METHOD:PUBLISH
X-PUBLISHED-TTL:P3D
REFRESH-INTERVAL:P3D
CALSCALE:GREGORIAN
BEGIN:VEVENT
DTSTART:20180418T000000Z
DTEND:20180418T010000Z
X-MICROSOFT-CDO-ALLDAYEVENT:FALSE
SUMMARY:Author Robert Jensen
DESCRIPTION:Author Robert Jensen - Tuesday\, April 17th at 7pm - Author and University of Texas professor Robert Jensen will discuss how to communicate constructively across political divides. Jensen is the author of "Arguing for Our Lives: A User's Guide to Constructive Dialogue."
X-ALT-DESC;FMTTYPE=text/html:Author Robert Jensen - Tuesday\, April 17th at 7pm - Author and University of Texas professor Robert Jensen will discuss how to communicate constructively across political divides. Jensen is the author of &quot\;Arguing for Our Lives: A User&rsquo\;s Guide to Constructive Dialogue.&quot\;
LOCATION:Lake Travis Community Library 1938 Lohmans Crossing Austin\, Texas 78734
UID:e.2123.9593
SEQUENCE:3
DTSTAMP:20260421T161257Z
URL:https://laketravischamberfest.com/events/details/author-robert-jensen-9593
END:VEVENT

END:VCALENDAR
