BEGIN:VCALENDAR
VERSION:2.0
PRODID:-//ChamberMaster//Event Calendar 2.0//EN
METHOD:PUBLISH
X-PUBLISHED-TTL:P3D
REFRESH-INTERVAL:P3D
CALSCALE:GREGORIAN
BEGIN:VEVENT
DTSTART:20180122T200000Z
DTEND:20180122T210000Z
X-MICROSOFT-CDO-ALLDAYEVENT:FALSE
SUMMARY:Author Linda Bingham: Memory + Imagination = Art
DESCRIPTION:In Linda Bingham's "Born on the Island"\, turn of the century Galveston is bracing for what will be known as one of the deadliest hurricanes in U.S. history. She imagines one survivor's journey upon returning to her home in Galveston. Bingham will discuss her book and ow she finds writing inspiration on Monday\, January 22nd at 2pm.
X-ALT-DESC;FMTTYPE=text/html:In Linda Bingham&rsquo\;s &quot\;Born on the Island&quot\;\, turn of the century Galveston is bracing for what will be known as one of the deadliest hurricanes in U.S. history. She imagines one survivor&rsquo\;s journey upon returning to her home in Galveston. Bingham will discuss her book and ow she finds writing inspiration on Monday\, January 22nd at 2pm.
LOCATION:Lake Travis Community Library 1938 Lohmans Crossing Austin\, Texas 78734
UID:e.2123.9530
SEQUENCE:3
DTSTAMP:20260421T113444Z
URL:https://laketravischamberfest.com/events/details/author-linda-bingham-memory-imagination-art-9530
END:VEVENT

END:VCALENDAR
