BEGIN:VCALENDAR
VERSION:2.0
PRODID:-//ChamberMaster//Event Calendar 2.0//EN
METHOD:PUBLISH
X-PUBLISHED-TTL:P3D
REFRESH-INTERVAL:P3D
CALSCALE:GREGORIAN
BEGIN:VEVENT
DTSTART:20191029T220000Z
DTEND:20191029T230000Z
X-MICROSOFT-CDO-ALLDAYEVENT:FALSE
SUMMARY:Author Laura Savage-Rains
DESCRIPTION:Author Laura Savage-Rains - Tuesday\, October 29th at 5pm - Join us for a book talk and signing with local author Laura Savage-Rains. Laura will speak about her writing process and new book\, God Chose a Woman First.
X-ALT-DESC;FMTTYPE=text/html:Author Laura Savage-Rains - Tuesday\, October 29th at 5pm - Join us for a book talk and signing with local author Laura Savage-Rains. Laura will speak about her writing process and new book\, God Chose a Woman First.
LOCATION:Lake Travis Community Library 1938 Lohmans Crossing Austin\, TX 78734
UID:e.2123.9993
SEQUENCE:3
DTSTAMP:20260422T194626Z
URL:https://laketravischamberfest.com/events/details/author-laura-savage-rains-9993
END:VEVENT

END:VCALENDAR
