BEGIN:VCALENDAR
VERSION:2.0
PRODID:-//ChamberMaster//Event Calendar 2.0//EN
METHOD:PUBLISH
X-PUBLISHED-TTL:P3D
REFRESH-INTERVAL:P3D
CALSCALE:GREGORIAN
BEGIN:VEVENT
DTSTART:20191120T000000Z
DTEND:20191120T010000Z
X-MICROSOFT-CDO-ALLDAYEVENT:FALSE
SUMMARY:Author Ken Roberts
DESCRIPTION:Author Ken Roberts - Tuesday\, November 19th at 6pm - Author Ken Roberts will discuss his nonfiction work\, "The Cedar Choppers\," which highlights the lively stories of the mostly Scotch-Irish migrants who settled near Austin during the mid-nineteenth century.
X-ALT-DESC;FMTTYPE=text/html:Author Ken Roberts - Tuesday\, November 19th at 6pm - Author Ken Roberts will discuss his nonfiction work\, &quot\;The Cedar Choppers\,&quot\; which highlights the lively stories of the mostly Scotch-Irish migrants who settled near Austin during the mid-nineteenth century.
LOCATION:Lake Travis Community Library 1938 Lohmans Crossing Austin\, TX 78734
UID:e.2123.10011
SEQUENCE:3
DTSTAMP:20260422T211159Z
URL:https://laketravischamberfest.com/events/details/author-ken-roberts-10011
END:VEVENT

END:VCALENDAR
