BEGIN:VCALENDAR
VERSION:2.0
PRODID:-//ChamberMaster//Event Calendar 2.0//EN
METHOD:PUBLISH
X-PUBLISHED-TTL:P3D
REFRESH-INTERVAL:P3D
CALSCALE:GREGORIAN
BEGIN:VEVENT
DTSTART:20190604T230000Z
DTEND:20190605T000000Z
X-MICROSOFT-CDO-ALLDAYEVENT:FALSE
SUMMARY:Author Ed Crowell
DESCRIPTION:Author Ed Crowell - Tuesday\, June 4th at 6pm - Author Ed Crowell will read from his new nonfiction book "Barton Creek" and discuss how to protect this local environmental treasure.
X-ALT-DESC;FMTTYPE=text/html:Author Ed Crowell - Tuesday\, June 4th at 6pm - Author Ed Crowell will read from his new nonfiction book &quot\;Barton Creek&quot\; and discuss how to protect this local environmental treasure.
LOCATION:Lake Travis Community Library 1938 Lohmans Crossing Austin\, Texas 78734
UID:e.2123.9912
SEQUENCE:3
DTSTAMP:20260422T134620Z
URL:https://laketravischamberfest.com/events/details/author-ed-crowell-9912
END:VEVENT

END:VCALENDAR
