BEGIN:VCALENDAR
VERSION:2.0
PRODID:-//ChamberMaster//Event Calendar 2.0//EN
METHOD:PUBLISH
X-PUBLISHED-TTL:P3D
REFRESH-INTERVAL:P3D
CALSCALE:GREGORIAN
BEGIN:VEVENT
DTSTART:20180508T000000Z
DTEND:20180508T010000Z
X-MICROSOFT-CDO-ALLDAYEVENT:FALSE
SUMMARY:Author DonnaLee Overly
DESCRIPTION:Author DonnaLee Overly - Monday\, May 7th at 7pm - DonnaLee Overly will discuss her book "The Trinity Knot: Release the Knot of Silence." The first in a series\, The Trinity Knot is a contemporary women's novel set in the hill country that gives a compassionate voice to the challenges women face.
X-ALT-DESC;FMTTYPE=text/html:Author DonnaLee Overly - Monday\, May 7th at 7pm - DonnaLee Overly will discuss her book &quot\;The Trinity Knot: Release the Knot of Silence.&quot\; The first in a series\, The Trinity Knot is a contemporary women&rsquo\;s novel set in the hill country that gives a compassionate voice to the challenges women face.
LOCATION:Lake Travis Community Library 1938 Lohmans Crossing Austin\, Texas 78734
UID:e.2123.9622
SEQUENCE:3
DTSTAMP:20260421T192104Z
URL:https://laketravischamberfest.com/events/details/author-donnalee-overly-9622
END:VEVENT

END:VCALENDAR
