BEGIN:VCALENDAR
VERSION:2.0
PRODID:-//ChamberMaster//Event Calendar 2.0//EN
METHOD:PUBLISH
X-PUBLISHED-TTL:P3D
REFRESH-INTERVAL:P3D
CALSCALE:GREGORIAN
BEGIN:VEVENT
DTSTART:20191008T000000Z
DTEND:20191008T010000Z
X-MICROSOFT-CDO-ALLDAYEVENT:FALSE
SUMMARY:Author DonnaLee Overly
DESCRIPTION:Author DonnaLee Overly - Monday\, October 7th at 7pm - Author DonnaLee Overly will discuss the third book in The Knot Series\, "The Hitch: The Knot That Binds\," which deals with loss\, depression\, and addiction.
X-ALT-DESC;FMTTYPE=text/html:Author DonnaLee Overly - Monday\, October 7th at 7pm - Author DonnaLee Overly will discuss the third book in The Knot Series\, &quot\;The Hitch: The Knot That Binds\,&quot\; which deals with loss\, depression\, and addiction.
LOCATION:Lake Travis Community Library 1938 Lohmans Crossing Austin\, TX 78734
UID:e.2123.9992
SEQUENCE:3
DTSTAMP:20260422T194628Z
URL:https://laketravischamberfest.com/events/details/author-donnalee-overly-10-07-2019-9992
END:VEVENT

END:VCALENDAR
