BEGIN:VCALENDAR
VERSION:2.0
PRODID:-//ChamberMaster//Event Calendar 2.0//EN
METHOD:PUBLISH
X-PUBLISHED-TTL:P3D
REFRESH-INTERVAL:P3D
CALSCALE:GREGORIAN
BEGIN:VEVENT
DTSTART:20190406T170000Z
DTEND:20190406T170000Z
X-MICROSOFT-CDO-ALLDAYEVENT:FALSE
SUMMARY:Author Allan Thomas Chiulli
DESCRIPTION:Author Allan Thomas Chiulli - Saturday\, April 6th at 2pm - Are you feeling left behind by changing technology? The author of "Winning in the Digital Tornado\," Chiulli will share his easy path to understanding and adapting in the digital age. He is an inventor\, CEO\, and serial entrepreneur.
X-ALT-DESC;FMTTYPE=text/html:Author Allan Thomas Chiulli - Saturday\, April 6th at 2pm - Are you feeling left behind by changing technology? The author of &quot\;Winning in the Digital Tornado\,&quot\; Chiulli will share his easy path to understanding and adapting in the digital age. He is an inventor\, CEO\, and serial entrepreneur.
LOCATION:Lake Travis Community Library 1938 Lohmans Crossing Austin\, Texas 78734
UID:e.2123.9857
SEQUENCE:3
DTSTAMP:20260422T104801Z
URL:https://laketravischamberfest.com/events/details/author-allan-thomas-chiulli-9857
END:VEVENT

END:VCALENDAR
