BEGIN:VCALENDAR
VERSION:2.0
PRODID:-//ChamberMaster//Event Calendar 2.0//EN
METHOD:PUBLISH
X-PUBLISHED-TTL:P3D
REFRESH-INTERVAL:P3D
CALSCALE:GREGORIAN
BEGIN:VEVENT
DTSTART:20230831T230000Z
DTEND:20230901T020000Z
X-MICROSOFT-CDO-ALLDAYEVENT:FALSE
SUMMARY:ATX Urban Art Opening Reception
DESCRIPTION:The ATX Urban Art exhibition opens August 26 - Sept. 22: Graffiti\, Street Art\, Murals\, Mosaics. Join us for an exciting Opening Reception Thursday August 31\, 6-9pm\, at The Hive Gallery by Bee Cave Arts Foundation in The Hill Country Galleria (across from Barnes and Noble).
X-ALT-DESC;FMTTYPE=text/html:The ATX Urban Art exhibition opens August 26 - Sept. 22: Graffiti\, Street Art\, Murals\, Mosaics. Join us for an exciting Opening Reception Thursday August 31\, 6-9pm\, at The Hive Gallery by Bee Cave Arts Foundation in The Hill Country Galleria (across from Barnes and Noble).
LOCATION:Bee Cave Arts Foundation\, The Hive Art Gallery\, Hill Country Galleria
UID:e.2123.11766
SEQUENCE:3
DTSTAMP:20260423T013039Z
URL:https://laketravischamberfest.com/events/details/atx-urban-art-opening-reception-11766
END:VEVENT

END:VCALENDAR
