BEGIN:VCALENDAR
VERSION:2.0
PRODID:-//ChamberMaster//Event Calendar 2.0//EN
METHOD:PUBLISH
X-PUBLISHED-TTL:P3D
REFRESH-INTERVAL:P3D
CALSCALE:GREGORIAN
BEGIN:VEVENT
DTSTART:20180417T223000Z
DTEND:20180417T233000Z
X-MICROSOFT-CDO-ALLDAYEVENT:FALSE
SUMMARY:Aster After Dark: Wine & Cheese Chat with Author/Broadcast Journalist Olga Campos Benz
DESCRIPTION:Join Olga for a small group chat about her recently published book "It's News to Me"\, her life as a broadcast journalist (and all the real life adventures too juicy for any novel!) and the writing process.
X-ALT-DESC;FMTTYPE=text/html:Join Olga for a small group chat about her recently published book &ldquo\;It&rsquo\;s News to Me&rdquo\;\, her life as a broadcast journalist (and all the real life adventures too juicy for any novel!) and the writing process.
LOCATION:LakeHouse Spa at Lake Austin Spa Resort
UID:e.2123.9602
SEQUENCE:3
DTSTAMP:20260421T180135Z
URL:https://laketravischamberfest.com/events/details/aster-after-dark-wine-cheese-chat-with-author-broadcast-journalist-olga-campos-benz-9602
END:VEVENT

END:VCALENDAR
