BEGIN:VCALENDAR
VERSION:2.0
PRODID:-//ChamberMaster//Event Calendar 2.0//EN
METHOD:PUBLISH
X-PUBLISHED-TTL:P3D
REFRESH-INTERVAL:P3D
CALSCALE:GREGORIAN
BEGIN:VEVENT
DTSTART:20180409T000000Z
DTEND:20180409T020000Z
X-MICROSOFT-CDO-ALLDAYEVENT:FALSE
SUMMARY:Aster After Dark: Sunday Supper with Special Guest Chef Martin Rios
DESCRIPTION:Join Special Guest Chef Martin Rios from Santa Fe and Lake Austin Spa Resort Executive Chef Stephane Beaucamp for a gourmet supper with wine pairings. Restaurant Martin is the embodiment of a 20-year dream to create the perfect balance of refined and comfortable. Chef Martin Rios\, and his wife\, Jennifer\, envisioned a certain ambiance where people from the community as well as Santa Fe's many visitors could enjoy Chef Rios' award-winning progressive American cuisine.
X-ALT-DESC;FMTTYPE=text/html:Join Special Guest Chef Martin Rios from Santa Fe and Lake Austin Spa Resort Executive Chef Stephane Beaucamp for a gourmet supper with wine pairings. Restaurant Martin is the embodiment of a 20-year dream to create the perfect balance of refined and comfortable. Chef Martin Rios\, and his wife\, Jennifer\, envisioned a certain ambiance where people from the community as well as Santa Fe&rsquo\;s many visitors could enjoy Chef Rios&rsquo\; award-winning progressive American cuisine.
LOCATION:LakeHouse Spa at Lake Austin Spa Resort
UID:e.2123.9601
SEQUENCE:3
DTSTAMP:20260421T162306Z
URL:https://laketravischamberfest.com/events/details/aster-after-dark-sunday-supper-with-special-guest-chef-martin-rios-9601
END:VEVENT

END:VCALENDAR
