BEGIN:VCALENDAR
VERSION:2.0
PRODID:-//ChamberMaster//Event Calendar 2.0//EN
METHOD:PUBLISH
X-PUBLISHED-TTL:P3D
REFRESH-INTERVAL:P3D
CALSCALE:GREGORIAN
BEGIN:VEVENT
DTSTART:20180611T000000Z
DTEND:20180611T020000Z
X-MICROSOFT-CDO-ALLDAYEVENT:FALSE
SUMMARY:Aster After Dark: Sunday Supper with Special Guest Chef Johnny Vee
DESCRIPTION:Join Special Guest Chef Johnny Vee and Lake Austin Spa Resort Executive Chef Stephane Beaucamp for a gourmet supper with wine pairings. Johnny Vee is director and creator of The Las Cosas Cooking School in Santa Fe\, New Mexico- now celebrating its 21th year under his direction. He has taught cooking for over 20 years and enjoys a second career in food writing as a regular columnist for Su Casa Magazine and The New Mexican seasonal magazines\, and as Dining & Food Editor for The Santa Fean magazine. His first cookbook Cooking with Johnny Vee has just come out in its 2nd edition.
X-ALT-DESC;FMTTYPE=text/html:Join Special Guest Chef Johnny Vee and Lake Austin Spa Resort Executive Chef Stephane Beaucamp for a gourmet supper with wine pairings. Johnny Vee is director and creator of The Las Cosas Cooking School in Santa Fe\, New Mexico- now celebrating its 21th year under his direction. He has taught cooking for over 20 years and enjoys a second career in food writing as a regular columnist for Su Casa Magazine and The New Mexican seasonal magazines\, and as Dining &amp\; Food Editor for The Santa Fean magazine. His first cookbook Cooking with Johnny Vee has just come out in its 2nd edition.
LOCATION:LakeHouse Spa at Lake Austin Spa Resort
UID:e.2123.9604
SEQUENCE:3
DTSTAMP:20260421T192822Z
URL:https://laketravischamberfest.com/events/details/aster-after-dark-sunday-supper-with-special-guest-chef-johnny-vee-9604
END:VEVENT

END:VCALENDAR
