BEGIN:VCALENDAR
VERSION:2.0
PRODID:-//ChamberMaster//Event Calendar 2.0//EN
METHOD:PUBLISH
X-PUBLISHED-TTL:P3D
REFRESH-INTERVAL:P3D
CALSCALE:GREGORIAN
BEGIN:VEVENT
DTSTART:20180507T000000Z
DTEND:20180507T020000Z
X-MICROSOFT-CDO-ALLDAYEVENT:FALSE
SUMMARY:Aster After Dark: Sunday Supper with Special Guest Chef Danny Kievit
DESCRIPTION:Join Special Guest Chef Danny Kievit from Moonshine and Lake Austin Spa Resort Executive Chef Stephane Beaucamp for a gourmet supper with wine pairings. Chef Danny Kievit was born and bred in Texas and knew his career path would lead to the kitchen from a young age. Securing his first restaurant job at age 15 and feeling immediately at home in the commercial kitchen\, Danny has been honing his skills ever since\, graduating from Austin's Escoffier Institute in 2006 and working in kitchens across Texas\, including Truluck's Steaks and Seafood where he was Executive Chef from 2006 to 2014. Danny assumed the role of Culinary Director for Moonshine Patio Bar & Grill in 2014 and continues to delight guests with his creations every day!
X-ALT-DESC;FMTTYPE=text/html:Join Special Guest Chef Danny Kievit from Moonshine and Lake Austin Spa Resort Executive Chef Stephane Beaucamp for a gourmet supper with wine pairings. Chef Danny Kievit was born and bred in Texas and knew his career path would lead to the kitchen from a young age. Securing his first restaurant job at age 15 and feeling immediately at home in the commercial kitchen\, Danny has been honing his skills ever since\, graduating from Austin&rsquo\;s Escoffier Institute in 2006 and working in kitchens across Texas\, including Truluck&rsquo\;s Steaks and Seafood where he was Executive Chef from 2006 to 2014. Danny assumed the role of Culinary Director for Moonshine Patio Bar &amp\; Grill in 2014 and continues to delight guests with his creations every day!
LOCATION:LakeHouse Spa at Lake Austin Spa Resort
UID:e.2123.9603
SEQUENCE:3
DTSTAMP:20260421T180133Z
URL:https://laketravischamberfest.com/events/details/aster-after-dark-sunday-supper-with-special-guest-chef-danny-kievit-9603
END:VEVENT

END:VCALENDAR
