BEGIN:VCALENDAR
VERSION:2.0
PRODID:-//ChamberMaster//Event Calendar 2.0//EN
METHOD:PUBLISH
X-PUBLISHED-TTL:P3D
REFRESH-INTERVAL:P3D
CALSCALE:GREGORIAN
BEGIN:VEVENT
DTSTART:20181027T150000Z
DTEND:20181028T210000Z
X-MICROSOFT-CDO-ALLDAYEVENT:FALSE
SUMMARY:Arts Round-Up
DESCRIPTION:ART\, MUSIC\, FOOD AND FUN-IT'S ARTS ROUND-UP TIME! Join the happy crowd at La Cabana Grill Saturday and Sunday\, Oct. 27-28\, for the fifteenth annual Spicewood Arts Round-up festival. Admission is free to the family-friendly event\, but donations are appreciated. Sponsored by the Spicewood Arts Society\, the juried art show presents the work of over 35 expert artists from central Texas and beyond representing a variety of genres: glass\, jewelry\, sculpture\, painting\, and more. The Arts Round-Up also recognizes the art programs in Lake Travis and Marble Falls schools\, featuring student art at all grade levels. Festival guests will hear a full program of music including the Spicewood Elementary School Choir\, Raised Right Men\, The Troll Smashers Trio\, and dance favorites the Square Grooves. Sunday brings popular singer/songwriter Ed Turek and the bluegrass band One Eye Open. Organizers ask that no outside alcohol be brought onto the festival grounds
X-ALT-DESC;FMTTYPE=text/html:ART\, MUSIC\, FOOD AND FUN-IT&rsquo\;S ARTS ROUND-UP TIME! Join the happy crowd at La Cabana Grill Saturday and Sunday\, Oct. 27-28\, for the fifteenth annual Spicewood Arts Round-up festival. Admission is free to the family-friendly event\, but donations are appreciated. Sponsored by the Spicewood Arts Society\, the juried art show presents the work of over 35 expert artists from central Texas and beyond representing a variety of genres: glass\, jewelry\, sculpture\, painting\, and more. The Arts Round-Up also recognizes the art programs in Lake Travis and Marble Falls schools\, featuring student art at all grade levels. Festival guests will hear a full program of music including the Spicewood Elementary School Choir\, Raised Right Men\, The Troll Smashers Trio\, and dance favorites the Square Grooves. Sunday brings popular singer/songwriter Ed Turek and the bluegrass band One Eye Open. Organizers ask that no outside alcohol be brought onto the festival grounds
LOCATION:21103 Highway 71 West\, Spicewood TX
UID:e.2123.9745
SEQUENCE:3
DTSTAMP:20260422T010446Z
URL:https://laketravischamberfest.com/events/details/arts-round-up-9745
END:VEVENT

END:VCALENDAR
