BEGIN:VCALENDAR
VERSION:2.0
PRODID:-//ChamberMaster//Event Calendar 2.0//EN
METHOD:PUBLISH
X-PUBLISHED-TTL:P3D
REFRESH-INTERVAL:P3D
CALSCALE:GREGORIAN
BEGIN:VEVENT
DTSTART:20180916T173000Z
DTEND:20180916T230000Z
X-MICROSOFT-CDO-ALLDAYEVENT:FALSE
SUMMARY:Argentine Asado\, Tango + Live Music at El Gaucho Winery
DESCRIPTION:Get out of the house this weekend\, and enjoy the cooler temps at our first Sunday Asado of the season! Our anticipated Asado will be held on Sunday\, September 16! Our doors open at noon and asado service begins at 12:30 pm\, and we'll have a nice\, big tent for outdoor seating. This Argentine style BBQ always has a great crowd of guests enjoying the delicious food\, our excellent wines from Argentina\, live music and the relaxing ambiance of our winery. We will have a wonderful music group playing traditional Argentine tango music\, special dance performances\, and guitar duo the Eiti Leda Project playing Argentinian classic rock covers. Everyone is invited to dance and this event is family friendly! There are no entry tickets\, but reservations are appreciated by calling 512-382-0620.
X-ALT-DESC;FMTTYPE=text/html:Get out of the house this weekend\, and enjoy the cooler temps at our first Sunday Asado of the season! Our anticipated Asado will be held on Sunday\, September 16! Our doors open at noon and asado service begins at 12:30 pm\, and we&#39\;ll have a nice\, big tent for outdoor seating. This Argentine style BBQ always has a great crowd of guests enjoying the delicious food\, our excellent wines from Argentina\, live music and the relaxing ambiance of our winery. We will have a wonderful music group playing traditional Argentine tango music\, special dance performances\, and guitar duo the Eiti Leda Project playing Argentinian classic rock covers. Everyone is invited to dance and this event is family friendly! There are no entry tickets\, but reservations are appreciated by calling 512-382-0620.
LOCATION:21301 Kathy Ln\, Spicewood\, TX 78669
UID:e.2123.9721
SEQUENCE:3
DTSTAMP:20260422T011107Z
URL:https://laketravischamberfest.com/events/details/argentine-asado-tango-live-music-at-el-gaucho-winery-9721
END:VEVENT

END:VCALENDAR
