BEGIN:VCALENDAR
VERSION:2.0
PRODID:-//ChamberMaster//Event Calendar 2.0//EN
METHOD:PUBLISH
X-PUBLISHED-TTL:P3D
REFRESH-INTERVAL:P3D
CALSCALE:GREGORIAN
BEGIN:VEVENT
DTSTART:20200207T003000Z
DTEND:20200207T023000Z
X-MICROSOFT-CDO-ALLDAYEVENT:FALSE
SUMMARY:Argentina + Mexico Sauces Cooking Class
DESCRIPTION:Welcome our new guest chef\, Carlos Crusco! Growing up with Argentine parents of Italian and Spanish heritage\, Chef Crusco has developed a wealth of knowl edge and practice. His travels throughout South America and Europe contribute to his extensive knowledge of culinary art. In this hands-on sauce class\, Chef Crusco will explore Latin flavors\, as well as share Latin dishes and the sauces that make them unique like orange chile glaze\, tomatillo guacamole\, salsa folf and chimichurri. Tickets are nonrefundable and will be emailed with your emailed purchase receipt.
X-ALT-DESC;FMTTYPE=text/html:Welcome our new guest chef\, Carlos Crusco! Growing up with Argentine parents of Italian and Spanish heritage\, Chef Crusco has developed a wealth of knowl&shy\;edge and practice. His travels throughout South America and Europe contribute to his extensive knowledge of culinary art.&nbsp\;In this hands-on sauce class\, Chef Crusco will explore Latin flavors\, as well as share Latin dishes and the sauces that make them unique like orange chile glaze\, tomatillo guacamole\, salsa folf and chimichurri. Tickets are nonrefundable and will be emailed with your emailed purchase receipt.
LOCATION:Con' Olio Oils & Vinegars 3500 Ranch Road 620 S\, Ste F-400 Bee Cave\, Texas 78738
UID:e.2123.10068
SEQUENCE:3
DTSTAMP:20260423T020007Z
URL:https://laketravischamberfest.com/events/details/argentina-mexico-sauces-cooking-class-10068
END:VEVENT

END:VCALENDAR
