BEGIN:VCALENDAR
VERSION:2.0
PRODID:-//ChamberMaster//Event Calendar 2.0//EN
METHOD:PUBLISH
X-PUBLISHED-TTL:P3D
REFRESH-INTERVAL:P3D
CALSCALE:GREGORIAN
BEGIN:VEVENT
DTSTART:20191109T160000Z
DTEND:20191109T220000Z
X-MICROSOFT-CDO-ALLDAYEVENT:FALSE
SUMMARY:Annual Christmas Extravaganza
DESCRIPTION:It's Beginning to Look a Lot Like Christmas Annual Christmas Open House Fabulous Christmas Decorations and of course UGLY SWEATERS! Remember that the proceeds from shopping support many local charities!
X-ALT-DESC;FMTTYPE=text/html:It&#39\;s Beginning to Look a Lot Like Christmas Annual Christmas Open House Fabulous Christmas Decorations and of course UGLY SWEATERS! Remember that the proceeds from shopping support many local charities!
LOCATION:Ladies of Charity - Lake Travis Thrift Shop 1508 RR 620 So.\, Suite 105 Lakeway (Back of Jack Brown Cleaners Center)
UID:e.2123.10025
SEQUENCE:3
DTSTAMP:20260422T211312Z
URL:https://laketravischamberfest.com/events/details/annual-christmas-extravaganza-10025
END:VEVENT

END:VCALENDAR
