BEGIN:VCALENDAR
VERSION:2.0
PRODID:-//ChamberMaster//Event Calendar 2.0//EN
METHOD:PUBLISH
X-PUBLISHED-TTL:P3D
REFRESH-INTERVAL:P3D
CALSCALE:GREGORIAN
BEGIN:VEVENT
DTSTART:20190713T003000Z
DTEND:20190804T170000Z
X-MICROSOFT-CDO-ALLDAYEVENT:FALSE
SUMMARY:Annie at TexARTS
DESCRIPTION:The TexARTS Professional Series presents\, Annie. Performances in Lakeway will be July 12- August 4. Annie is a perfect family-friendly musical with book by Thomas Meehan\, music by Charles Strouse\, and lyrics by Martin Charnin. All performances are at the Kam & James Morris Theatre in Lakeway.
X-ALT-DESC;FMTTYPE=text/html:The TexARTS Professional Series presents\, Annie. Performances in Lakeway will be July 12- August 4. Annie is a perfect family-friendly musical with book by Thomas Meehan\, music by Charles Strouse\, and lyrics by Martin Charnin. All performances are at the Kam &amp\; James Morris Theatre in Lakeway.
LOCATION:All performances are held at the intimate Kam & James Morris Theatre at TexARTS' Erin Doherty Studios\, 2300 Lohman's Spur\, Suite #160\, Lakeway\, TX.
UID:e.2123.9953
SEQUENCE:3
DTSTAMP:20260422T152608Z
URL:https://laketravischamberfest.com/events/details/annie-at-texarts-9953
END:VEVENT

END:VCALENDAR
