BEGIN:VCALENDAR
VERSION:2.0
PRODID:-//ChamberMaster//Event Calendar 2.0//EN
METHOD:PUBLISH
X-PUBLISHED-TTL:P3D
REFRESH-INTERVAL:P3D
CALSCALE:GREGORIAN
BEGIN:VEVENT
DTSTART:20180709T153000Z
DTEND:20180710T043000Z
X-MICROSOFT-CDO-ALLDAYEVENT:FALSE
SUMMARY:Android Class
DESCRIPTION:Every Monday in July starting July 9th at 10:30am - Former science reporter Brian Hill will teach four Android smartphone classes geared towards seniors in July. He will specialize in slow paced instruction on how seniors can use technology to solve problems in their everyday lives. Phones can help save lives with medical alerts\, aid with memory loss\, aid with hearing problems\, and more.
X-ALT-DESC;FMTTYPE=text/html:Every Monday in July starting July 9th at 10:30am - Former science reporter Brian Hill will teach four Android smartphone classes geared towards seniors in July. He will specialize in slow paced instruction on how seniors can use technology to solve problems in their everyday lives. Phones can help save lives with medical alerts\, aid with memory loss\, aid with hearing problems\, and more.
LOCATION:Lake Travis Community Library 1938 Lohmans Crossing Austin\, Texas 78734
UID:e.2123.9677
SEQUENCE:3
DTSTAMP:20260421T203919Z
URL:https://laketravischamberfest.com/events/details/android-class-9677
END:VEVENT

END:VCALENDAR
