BEGIN:VCALENDAR
VERSION:2.0
PRODID:-//ChamberMaster//Event Calendar 2.0//EN
METHOD:PUBLISH
X-PUBLISHED-TTL:P3D
REFRESH-INTERVAL:P3D
CALSCALE:GREGORIAN
BEGIN:VEVENT
DTSTART:20230403T140000Z
DTEND:20230404T013000Z
X-MICROSOFT-CDO-ALLDAYEVENT:FALSE
SUMMARY:An Honest & Helpful Approach to Mental Health with Ross Szabo
DESCRIPTION:Ross Szabo creates an ability to remove the stigma around conversing about mental health and challenges by using tasteful humor and insights to help participants understand common mental health conditions and individual differences. He also covers warning signs that students/parents can look for in their friends and peers\, as well as resources that can provide guidance in these sensitive situations. Join us and get empowered!\n\nThree different presentations/times \n\n  9-11AM: Behind Happy Faces (for parents\, caregivers\, clinicians) FREE\n\n  11:30AM-1PM: Luncheon/Meet&Greet w/ Ross Szabo   $25 donation includes lunch and book.\n\n  6:30-8:30PM: Take Charge of Your Mental Health (for students\, families\, caregivers\, clinicians\, all!) FREE\n\nPlease register for the sessions(s) you would like to attend\, noting the $25 donation for the limited-seating luncheon. REGISTER HERE.
X-ALT-DESC;FMTTYPE=text/html:<p>Ross Szabo creates an ability to remove the stigma around conversing about mental health and challenges by using tasteful humor and insights to help participants understand common mental health conditions and individual differences. He also covers warning signs that students/parents can look for in their friends and peers\, as well as resources that can provide guidance in these sensitive situations. Join us and get empowered!</p>\n\n<p><strong>Three different presentations/times&hellip\;</strong><br />\n&bull\; 9-11AM: Behind Happy Faces (for parents\, caregivers\, clinicians) FREE<br />\n&bull\; 11:30AM-1PM: Luncheon/Meet&amp\;Greet w/ Ross Szabo &mdash\; $25 donation includes lunch and book.<br />\n&bull\; 6:30-8:30PM: Take Charge of Your Mental Health (for students\, families\, caregivers\, clinicians\, all!) FREE</p>\n\n<p>Please register for the sessions(s) you would like to attend\, noting the $25 donation for the limited-seating luncheon. REGISTER <a class="m-font-size-15" href="https://docs.google.com/forms/d/e/1FAIpQLSdIjo0Uddt6MWRIcB7hBEhD5UmAksqm5m0DoqySZnVD25y3Yw/viewform" style="display: initial\; text-transform: none\;" target="_blank" type="url">HERE</a>.</p>\n
LOCATION:Sonesta-Bee Cave
UID:e.2123.11729
SEQUENCE:3
DTSTAMP:20260423T083334Z
URL:https://laketravischamberfest.com/events/details/an-honest-helpful-approach-to-mental-health-with-ross-szabo-11729
END:VEVENT

END:VCALENDAR
