BEGIN:VCALENDAR
VERSION:2.0
PRODID:-//ChamberMaster//Event Calendar 2.0//EN
METHOD:PUBLISH
X-PUBLISHED-TTL:P3D
REFRESH-INTERVAL:P3D
CALSCALE:GREGORIAN
BEGIN:VEVENT
DTSTART:20230302T000000Z
DTEND:20230303T000000Z
X-MICROSOFT-CDO-ALLDAYEVENT:FALSE
SUMMARY:Amplify Austin Day
DESCRIPTION:I Live Here I Give Here's signature program\, Amplify Austin Day\, offers every community member the opportunity to give. Since 2013\, this annual event has raised $92.8 million dollars\, making it the biggest giving event in Central Texas. During a single 24-hour period\, from 6pm on March 1st\, to 6pm on March 2nd\, residents across a seven-county region will come together to support more than 700 nonprofits by making a donation through the platform\, AmplifyATX.org.
X-ALT-DESC;FMTTYPE=text/html:I Live Here I Give Here&rsquo\;s signature program\, Amplify Austin Day\, offers every community member the opportunity to give. Since 2013\, this annual event has raised $92.8 million dollars\, making it the biggest giving event in Central Texas. During a single 24-hour period\, from 6pm on March 1st\, to 6pm on March 2nd\, residents across a seven-county region will come together to support more than 700 nonprofits by making a donation through the platform\, AmplifyATX.org.
LOCATION:
UID:e.2123.11717
SEQUENCE:3
DTSTAMP:20260423T083920Z
URL:https://laketravischamberfest.com/events/details/amplify-austin-day-11717
END:VEVENT

END:VCALENDAR
