BEGIN:VCALENDAR
VERSION:2.0
PRODID:-//ChamberMaster//Event Calendar 2.0//EN
METHOD:PUBLISH
X-PUBLISHED-TTL:P3D
REFRESH-INTERVAL:P3D
CALSCALE:GREGORIAN
BEGIN:VEVENT
DTSTART:20190510T000000Z
DTEND:20190510T010000Z
X-MICROSOFT-CDO-ALLDAYEVENT:FALSE
SUMMARY:Alliances with Retired U.S. Ambassador Gene Christy
DESCRIPTION:Alliances with Retired U.S. Ambassador Gene Christy - Thursday\, May 9th at 7pm - Christy will discuss past and present U.S. alliances with foreign countries and pose the question\, are alliances still relevant in today's world of multiple powers? What does it mean for the U.S. to have dozens of 'allies' in the absence of treaty or other formal diplomatic obligations?
X-ALT-DESC;FMTTYPE=text/html:Alliances with Retired U.S. Ambassador Gene Christy - Thursday\, May 9th at 7pm - Christy will discuss past and present U.S. alliances with foreign countries and pose the question\, are alliances still relevant in today&rsquo\;s world of multiple powers? What does it mean for the U.S. to have dozens of &#39\;allies&#39\; in the absence of treaty or other formal diplomatic obligations?
LOCATION:Lake Travis Community Library 1938 Lohmans Crossing Austin\, Texas 78734
UID:e.2123.9892
SEQUENCE:3
DTSTAMP:20260422T122041Z
URL:https://laketravischamberfest.com/events/details/alliances-with-retired-u-s-ambassador-gene-christy-9892
END:VEVENT

END:VCALENDAR
