BEGIN:VCALENDAR
VERSION:2.0
PRODID:-//ChamberMaster//Event Calendar 2.0//EN
METHOD:PUBLISH
X-PUBLISHED-TTL:P3D
REFRESH-INTERVAL:P3D
CALSCALE:GREGORIAN
BEGIN:VEVENT
DTSTART:20221006T220000Z
DTEND:20221007T000000Z
X-MICROSOFT-CDO-ALLDAYEVENT:FALSE
SUMMARY:After Business Happy Hour
DESCRIPTION:Join us for this months After Business Happy Hour at Te'Kilas! This event is open to members and future members!
X-ALT-DESC;FMTTYPE=text/html:Join us for this months After Business Happy Hour at&nbsp\;<span style="caret-color: rgb(34\, 34\, 34)\; color: rgb(34\, 34\, 34)\; font-family: Arial\, Helvetica\, sans-serif\; font-size: small\;">Te&rsquo\;Kilas! This event is open to members and future members!&nbsp\;</span>
LOCATION:5000 Hudson Bend Rd\, Austin\, TX 78734
UID:e.2123.11104
SEQUENCE:3
DTSTAMP:20260423T154819Z
URL:https://laketravischamberfest.com/events/details/after-business-happy-hour-11104
END:VEVENT

END:VCALENDAR
