BEGIN:VCALENDAR
VERSION:2.0
PRODID:-//ChamberMaster//Event Calendar 2.0//EN
METHOD:PUBLISH
X-PUBLISHED-TTL:P3D
REFRESH-INTERVAL:P3D
CALSCALE:GREGORIAN
BEGIN:VEVENT
DTSTART:20230302T230000Z
DTEND:20230303T010000Z
X-MICROSOFT-CDO-ALLDAYEVENT:FALSE
SUMMARY:After Business Happy Hour
DESCRIPTION:Join us March 2 from 5pm-7pm at Kim Ortiz Portrait Art studio for the March Business Happy Hour Event. The event will be held at a brand new portrait studio location at the Hill Country Galleria located near Whole Foods\, next to Yoga Goga. \n\n \n\nCo-sponsoring is Best Results Realty Group. Enjoy an evening of networking\, wine\, beer and light bites.
X-ALT-DESC;FMTTYPE=text/html:<div style="caret-color: rgb(34\, 34\, 34)\; color: rgb(34\, 34\, 34)\; font-family: Arial\, Helvetica\, sans-serif\;">Join us March 2 from 5pm-7pm at Kim Ortiz Portrait Art studio for the March Business Happy Hour Event. The event will be held at a&nbsp\;brand new portrait studio location at the Hill Country Galleria located near Whole Foods\, next to Yoga Goga.&nbsp\;<br />\n&nbsp\;</div>\n\n<div style="caret-color: rgb(34\, 34\, 34)\; color: rgb(34\, 34\, 34)\; font-family: Arial\, Helvetica\, sans-serif\;"><strong>Co-sponsoring is <span style="caret-color: rgb(34\, 34\, 34)\; color: rgb(34\, 34\, 34)\; font-family: Arial\, Helvetica\, sans-serif\; font-size: small\;">Best Results Realty Group</span>. Enjoy an evening of networking\, wine\, beer and light bites.&nbsp\;</strong></div>\n
LOCATION:Kim Ortiz Portrait Art: 12700 Hill Country Blvd. S-120 *Located at the Hill Country Galleria. Across from Anthony's Patio and next to Yoga-Goga.
UID:e.2123.11545
SEQUENCE:3
DTSTAMP:20260423T100013Z
URL:https://laketravischamberfest.com/events/details/after-business-happy-hour-03-03-2023-11545
END:VEVENT

END:VCALENDAR
