BEGIN:VCALENDAR
VERSION:2.0
PRODID:-//ChamberMaster//Event Calendar 2.0//EN
METHOD:PUBLISH
X-PUBLISHED-TTL:P3D
REFRESH-INTERVAL:P3D
CALSCALE:GREGORIAN
BEGIN:VEVENT
DTSTART:20210712T180000Z
DTEND:20210716T220000Z
X-MICROSOFT-CDO-ALLDAYEVENT:FALSE
SUMMARY:Acting the Song
DESCRIPTION:Students in Acting the Song camp will be coached on both acting and vocal techniques to sing and tell the story of the song with emotion and beauty.  Campers will need to prepare 2 contrasting song selections before hand (16-32 bars of each)\, more information on what and how to prepare will be sent to participants via email. Ages 7-17.
X-ALT-DESC;FMTTYPE=text/html:Students in Acting the Song camp will be coached on both acting and vocal techniques to sing and tell the story of the song with emotion and beauty.&nbsp\; Campers will need to prepare 2 contrasting song selections before hand (16-32 bars of each)\, more information on what and how to prepare will be sent to participants via email.&nbsp\;Ages 7-17.
LOCATION:TexARTS Association 2300 Lohman's Spur STE 160 Austin\, TX 78734
UID:e.2123.10905
SEQUENCE:3
DTSTAMP:20260424T024956Z
URL:https://laketravischamberfest.com/events/details/acting-the-song-10905
END:VEVENT

END:VCALENDAR
