BEGIN:VCALENDAR
VERSION:2.0
PRODID:-//ChamberMaster//Event Calendar 2.0//EN
METHOD:PUBLISH
X-PUBLISHED-TTL:P3D
REFRESH-INTERVAL:P3D
CALSCALE:GREGORIAN
BEGIN:VEVENT
DTSTART;VALUE=DATE:20190608
DTEND;VALUE=DATE:20190609
TRANSP:TRANSPARENT
X-MICROSOFT-CDO-ALLDAYEVENT:TRUE
SUMMARY:ACT Test Prep
DESCRIPTION:ACT test preparation Boot Camp
X-ALT-DESC;FMTTYPE=text/html:ACT test preparation Boot Camp
LOCATION:Hampton Inn & Suites Lakeway
UID:e.2123.9916
SEQUENCE:3
DTSTAMP:20260422T134556Z
URL:https://laketravischamberfest.com/events/details/act-test-prep-9916
END:VEVENT

END:VCALENDAR
