BEGIN:VCALENDAR
VERSION:2.0
PRODID:-//ChamberMaster//Event Calendar 2.0//EN
METHOD:PUBLISH
X-PUBLISHED-TTL:P3D
REFRESH-INTERVAL:P3D
CALSCALE:GREGORIAN
BEGIN:VEVENT
DTSTART:20191216T180000Z
DTEND:20191216T180000Z
X-MICROSOFT-CDO-ALLDAYEVENT:FALSE
SUMMARY:AARP Smart DriverTEK
DESCRIPTION:AARP Smart DriverTEK - Monday\, December 16th at 10:30am - Tech Coach Bryan Smith will highlight the latest high-tech safety features in cars today. Learn which technologies to look for when shopping for a new car and the safety benefits of blind spot warning systems\, smart headlights\, and more. Register at the link : https://aarp.cvent.com/events/aarp-smart-drivertek-austin-tx-12-16-2019-10-30-am/event-summary-87f7d231ad59465ca33f4957094e5de6.aspx
X-ALT-DESC;FMTTYPE=text/html:AARP Smart DriverTEK - Monday\, December 16th at 10:30am - Tech Coach Bryan Smith will highlight the latest high-tech safety features in cars today. Learn which technologies to look for when shopping for a new car and the safety benefits of blind spot warning systems\, smart headlights\, and more. Register at the link : https://aarp.cvent.com/events/aarp-smart-drivertek-austin-tx-12-16-2019-10-30-am/event-summary-87f7d231ad59465ca33f4957094e5de6.aspx
LOCATION:Lake Travis Community Library 1938 Lohmans Crossing Austin\, Texas 78734
UID:e.2123.10035
SEQUENCE:3
DTSTAMP:20260422T225229Z
URL:https://laketravischamberfest.com/events/details/aarp-smart-drivertek-10035
END:VEVENT

END:VCALENDAR
