BEGIN:VCALENDAR
VERSION:2.0
PRODID:-//ChamberMaster//Event Calendar 2.0//EN
METHOD:PUBLISH
X-PUBLISHED-TTL:P3D
REFRESH-INTERVAL:P3D
CALSCALE:GREGORIAN
BEGIN:VEVENT
DTSTART:20180302T013000Z
DTEND:20180304T210000Z
X-MICROSOFT-CDO-ALLDAYEVENT:FALSE
SUMMARY:A Funny Thing Happened on the Way to the Forum
DESCRIPTION:Book by Burt Shevelove and Larry Gelbart Music and Lyrics by Stephen Sondheim Originally produced on Broadway by Harold S. Prince Southwestern University 's Sarofim School of Fine Arts' Theatre Department is excited to present the Tony Award winning musical A Funny Thing Happened on the Way to the Forum. In this classic piece of musical theatre\, the lives of three neighbors in Ancient Rome are intertwined when two members of opposite households fall in love but cannot be together. Pseudolos\, a crafty slave determined to live his life as a free man\, offers to join the two lovers together in exchange for his freedom. Hilarity ensues as Pseudolos and the lovers try to succeed in creating their own happy endings. Note production includes Mature Content. A Funny Thing Happened On the Way To the Forum is presented through special arrangement with Music Theatre International (MTI). All authorized performance materials are also supplied by MTI\, 421 West 54th Street\, New York\, NY 10019 Tel.: (212) 541-4684 Fax: (212) 397-4684 www.MTIShows.com Mathers Box Office: 512-863-1378
X-ALT-DESC;FMTTYPE=text/html:Book by Burt Shevelove and Larry Gelbart Music and Lyrics by Stephen Sondheim Originally produced on Broadway by Harold S. Prince Southwestern University &lsquo\;s Sarofim School of Fine Arts&rsquo\; Theatre Department is excited to present the Tony Award winning musical A Funny Thing Happened on the Way to the Forum. In this classic piece of musical theatre\, the lives of three neighbors in Ancient Rome are intertwined when two members of opposite households fall in love but cannot be together. Pseudolos\, a crafty slave determined to live his life as a free man\, offers to join the two lovers together in exchange for his freedom. Hilarity ensues as Pseudolos and the lovers try to succeed in creating their own happy endings. Note production includes Mature Content. A Funny Thing Happened On the Way To the Forum is presented through special arrangement with Music Theatre International (MTI). All authorized performance materials are also supplied by MTI\, 421 West 54th Street\, New York\, NY 10019 Tel.: (212) 541-4684 Fax: (212) 397-4684 www.MTIShows.com Mathers Box Office: 512-863-1378
LOCATION:Southwestern University's Alma Thomas Theater
UID:e.2123.9562
SEQUENCE:3
DTSTAMP:20260421T144904Z
URL:https://laketravischamberfest.com/events/details/a-funny-thing-happened-on-the-way-to-the-forum-9562
END:VEVENT

END:VCALENDAR
