BEGIN:VCALENDAR
VERSION:2.0
PRODID:-//ChamberMaster//Event Calendar 2.0//EN
METHOD:PUBLISH
X-PUBLISHED-TTL:P3D
REFRESH-INTERVAL:P3D
CALSCALE:GREGORIAN
BEGIN:VEVENT
DTSTART:20190406T170000Z
DTEND:20190406T200000Z
X-MICROSOFT-CDO-ALLDAYEVENT:FALSE
SUMMARY:A Day in the Life
DESCRIPTION:Voted Austin's best master-planned community two years in a row\, Rough Hollow invites you to discover The Rough Life at their FREE public event: A Day in the Life\, April 6th from noon and 3 PM. Stop by for food\, fun and family-friendly activities throughout Rough Hollow's 22 neighborhoods. Tour up to 10 models homes and see their award-winning amenities. Visit the Welcome Center at 903 Highlands Blvd to register and pickup your map of activities. Learn more at www.RoughHollowLakeway.com/DayintheLife.
X-ALT-DESC;FMTTYPE=text/html:Voted Austin&#39\;s best master-planned community two years in a row\, Rough Hollow invites you to discover The Rough Life at their FREE public event: A Day in the Life\, April 6th from noon and 3 PM. Stop by for food\, fun and family-friendly activities throughout Rough Hollow&rsquo\;s 22 neighborhoods. Tour up to 10 models homes and see their award-winning amenities. Visit the Welcome Center at 903 Highlands Blvd to register and pickup your map of activities. Learn more at www.RoughHollowLakeway.com/DayintheLife.
LOCATION:Rough Hollow Lakeway 903 Highlands Blvd Lakeway\, TX 78738
UID:e.2123.9851
SEQUENCE:3
DTSTAMP:20260422T105726Z
URL:https://laketravischamberfest.com/events/details/a-day-in-the-life-9851
END:VEVENT

END:VCALENDAR
