BEGIN:VCALENDAR
VERSION:2.0
PRODID:-//ChamberMaster//Event Calendar 2.0//EN
METHOD:PUBLISH
X-PUBLISHED-TTL:P3D
REFRESH-INTERVAL:P3D
CALSCALE:GREGORIAN
BEGIN:VEVENT
DTSTART:20171215T013000Z
DTEND:20171217T200000Z
X-MICROSOFT-CDO-ALLDAYEVENT:FALSE
SUMMARY:A Cool Yule
DESCRIPTION:"A Cool Yule\," the TexARTS holiday tradition\, returns for its fifth year! This swingin' cabaret will warm your heart with the songs of Andy Williams\, Elvis\, Frank Sinatra\, Sugarland\, Michael Buble\, Peggy Lee and more! This joyous evening of music features your favorite TexARTS stars including: Amy Nichols (Guys & Dolls)\, Jarret Mallon (Best Little Whorehouse )\, Lauren DeFilippo (Marvelous Wonderettes)\, Jerome Schoolar (A Closer Walk with Patsy )\, and Julie Foster (Ring of Fire). "A Cool Yule" will remind you how special the holidays - and TexARTS - really are.
X-ALT-DESC;FMTTYPE=text/html:&ldquo\;A Cool Yule\,&rdquo\; the TexARTS holiday tradition\, returns for its fifth year! This swingin&rsquo\; cabaret will warm your heart with the songs of Andy Williams\, Elvis\, Frank Sinatra\, Sugarland\, Michael Buble\, Peggy Lee and more! This joyous evening of music features your favorite TexARTS stars including: Amy Nichols (Guys &amp\; Dolls)\, Jarret Mallon (Best Little Whorehouse&hellip\;)\, Lauren DeFilippo (Marvelous Wonderettes)\, Jerome Schoolar (A Closer Walk with Patsy&hellip\;)\, and Julie Foster (Ring of Fire). &quot\;A Cool Yule&rdquo\; will remind you how special the holidays - and TexARTS - really are.
LOCATION:2300 Lohman's Spur\, STE 160
UID:e.2123.9490
SEQUENCE:3
DTSTAMP:20260421T095538Z
URL:https://laketravischamberfest.com/events/details/a-cool-yule-9490
END:VEVENT

END:VCALENDAR
